BEGIN:VCALENDAR
VERSION:2.0
PRODID:-//Medway Archers - ECPv6.13.2.1//NONSGML v1.0//EN
CALSCALE:GREGORIAN
METHOD:PUBLISH
X-WR-CALNAME:Medway Archers
X-ORIGINAL-URL:https://www.medwayarchers.co.uk
X-WR-CALDESC:Events for Medway Archers
REFRESH-INTERVAL;VALUE=DURATION:PT1H
X-Robots-Tag:noindex
X-PUBLISHED-TTL:PT1H
BEGIN:VTIMEZONE
TZID:Europe/London
BEGIN:DAYLIGHT
TZOFFSETFROM:+0000
TZOFFSETTO:+0100
TZNAME:BST
DTSTART:20180325T010000
END:DAYLIGHT
BEGIN:STANDARD
TZOFFSETFROM:+0100
TZOFFSETTO:+0000
TZNAME:GMT
DTSTART:20181028T010000
END:STANDARD
BEGIN:DAYLIGHT
TZOFFSETFROM:+0000
TZOFFSETTO:+0100
TZNAME:BST
DTSTART:20190331T010000
END:DAYLIGHT
BEGIN:STANDARD
TZOFFSETFROM:+0100
TZOFFSETTO:+0000
TZNAME:GMT
DTSTART:20191027T010000
END:STANDARD
BEGIN:DAYLIGHT
TZOFFSETFROM:+0000
TZOFFSETTO:+0100
TZNAME:BST
DTSTART:20200329T010000
END:DAYLIGHT
BEGIN:STANDARD
TZOFFSETFROM:+0100
TZOFFSETTO:+0000
TZNAME:GMT
DTSTART:20201025T010000
END:STANDARD
END:VTIMEZONE
BEGIN:VEVENT
DTSTART;TZID=Europe/London:20200201T113000
DTEND;TZID=Europe/London:20200201T123000
DTSTAMP:20260422T095955
CREATED:20150102T193239Z
LAST-MODIFIED:20200117T122927Z
UID:590-1580556600-1580560200@www.medwayarchers.co.uk
SUMMARY:Medway Archers A.G.M.
DESCRIPTION:Please note the A.G.M. will start at 11.30\, in between the two shooting sessions. Please bring with you any trophies or medals that need to be returned. Don’t forget your club subscriptions are due on the day.
URL:https://www.medwayarchers.co.uk/event/medway-archers-a-g-m/
LOCATION:Medway Archers\, Strand Approach Road\, Gillingham\, Kent\, ME7 1TT\, United Kingdom
CATEGORIES:General
ATTACH;FMTTYPE=image/png:https://www.medwayarchers.co.uk/wp-content/uploads/2014/03/archer3.png
END:VEVENT
BEGIN:VEVENT
DTSTART;TZID=Europe/London:20191225T080000
DTEND;TZID=Europe/London:20191225T170000
DTSTAMP:20260422T095955
CREATED:20160401T173909Z
LAST-MODIFIED:20190307T133500Z
UID:664-1577260800-1577293200@www.medwayarchers.co.uk
SUMMARY:Christmas Day
DESCRIPTION:Merry Christmas to one and all.
URL:https://www.medwayarchers.co.uk/event/christmas-eve/
CATEGORIES:General
ATTACH;FMTTYPE=image/png:https://www.medwayarchers.co.uk/wp-content/uploads/2016/04/christmas.png
END:VEVENT
BEGIN:VEVENT
DTSTART;TZID=Europe/London:20191214T110000
DTEND;TZID=Europe/London:20191214T170000
DTSTAMP:20260422T095955
CREATED:20170416T144717Z
LAST-MODIFIED:20190307T115700Z
UID:837-1576321200-1576342800@www.medwayarchers.co.uk
SUMMARY:Christmas Fun Shoot
DESCRIPTION:Assembly 11:00 am for sighters 11:30 Sharp.
URL:https://www.medwayarchers.co.uk/event/christmas-fun-shoot/
CATEGORIES:General
ATTACH;FMTTYPE=image/png:https://www.medwayarchers.co.uk/wp-content/uploads/2017/04/ChristmasArcher.png
END:VEVENT
BEGIN:VEVENT
DTSTART;TZID=Europe/London:20191026T110000
DTEND;TZID=Europe/London:20191026T170000
DTSTAMP:20260422T095955
CREATED:20140311T174323Z
LAST-MODIFIED:20190927T123254Z
UID:450-1572087600-1572109200@www.medwayarchers.co.uk
SUMMARY:Agincourt Fun Shoot
DESCRIPTION:Assembly 11:00 am for sighters 11:30 Sharp.
URL:https://www.medwayarchers.co.uk/event/metrics-4/
CATEGORIES:General
ATTACH;FMTTYPE=image/jpeg:https://www.medwayarchers.co.uk/wp-content/uploads/2014/03/di-2015-3928.jpg
END:VEVENT
BEGIN:VEVENT
DTSTART;TZID=Europe/London:20191019T090000
DTEND;TZID=Europe/London:20191019T170000
DTSTAMP:20260422T095955
CREATED:20140311T115528Z
LAST-MODIFIED:20190307T120159Z
UID:426-1571475600-1571504400@www.medwayarchers.co.uk
SUMMARY:Metrics
DESCRIPTION:6 doz. 3×3 @ your handicap distances. Assembly 09.00 for 09.30 sighters or 12:00 for 12:30 sighters.
URL:https://www.medwayarchers.co.uk/event/metrics/
CATEGORIES:General
ATTACH;FMTTYPE=image/png:https://www.medwayarchers.co.uk/wp-content/uploads/2014/03/archer.png
END:VEVENT
BEGIN:VEVENT
DTSTART;TZID=Europe/London:20191012T090000
DTEND;TZID=Europe/London:20191012T170000
DTSTAMP:20260422T095955
CREATED:20140311T174846Z
LAST-MODIFIED:20190307T120252Z
UID:453-1570870800-1570899600@www.medwayarchers.co.uk
SUMMARY:Take Your Pick
DESCRIPTION:Your choice @ your handicap distances. Assembly 09.00 for 09.30 sighters or 12:00 for 12:30 sighters.
URL:https://www.medwayarchers.co.uk/event/take-your-pick-7/
CATEGORIES:General
ATTACH;FMTTYPE=image/png:https://www.medwayarchers.co.uk/wp-content/uploads/2014/03/archer.png
END:VEVENT
BEGIN:VEVENT
DTSTART;TZID=Europe/London:20191005T090000
DTEND;TZID=Europe/London:20191005T170000
DTSTAMP:20260422T095955
CREATED:20140311T173648Z
LAST-MODIFIED:20190307T121742Z
UID:447-1570266000-1570294800@www.medwayarchers.co.uk
SUMMARY:Westerns
DESCRIPTION:8 doz. 4×4 @ your handicap distances. Assembly 09.00 for 09.30 sighters or 12:00 noon for 12:30 sighters.
URL:https://www.medwayarchers.co.uk/event/westerns/
CATEGORIES:General
ATTACH;FMTTYPE=image/png:https://www.medwayarchers.co.uk/wp-content/uploads/2014/03/archer.png
END:VEVENT
BEGIN:VEVENT
DTSTART;TZID=Europe/London:20190928T090000
DTEND;TZID=Europe/London:20190928T170000
DTSTAMP:20260422T095955
CREATED:20140311T172056Z
LAST-MODIFIED:20190307T123919Z
UID:444-1569661200-1569690000@www.medwayarchers.co.uk
SUMMARY:Nationals
DESCRIPTION:6 doz. 4×2 @ your handicap distances. Assembly 09.00 for 09.30 sighters or 12:00 noon for 12:30 sighters.
URL:https://www.medwayarchers.co.uk/event/nationals-2/
CATEGORIES:General
ATTACH;FMTTYPE=image/png:https://www.medwayarchers.co.uk/wp-content/uploads/2014/03/archer.png
END:VEVENT
BEGIN:VEVENT
DTSTART;TZID=Europe/London:20190921T090000
DTEND;TZID=Europe/London:20190921T170000
DTSTAMP:20260422T095955
CREATED:20140311T101226Z
LAST-MODIFIED:20190307T121137Z
UID:407-1569056400-1569085200@www.medwayarchers.co.uk
SUMMARY:Warwicks
DESCRIPTION:4 doz. 2×2 @ your handicap distances. Assembly 09.00 for 09.30 sighters or 12:00 noon for 12:30 sighters.
URL:https://www.medwayarchers.co.uk/event/nationals/
CATEGORIES:General
ATTACH;FMTTYPE=image/png:https://www.medwayarchers.co.uk/wp-content/uploads/2014/03/archer.png
END:VEVENT
BEGIN:VEVENT
DTSTART;TZID=Europe/London:20190831T090000
DTEND;TZID=Europe/London:20190831T170000
DTSTAMP:20260422T095955
CREATED:20160401T160919Z
LAST-MODIFIED:20190307T122224Z
UID:663-1567242000-1567270800@www.medwayarchers.co.uk
SUMMARY:Metrics
DESCRIPTION:6 doz. 3×3 @ your handicap distances. Assembly 09.00 for 09.30 sighters or 12:00 noon for 12:30 sighters.
URL:https://www.medwayarchers.co.uk/event/work-party-4/
CATEGORIES:General
ATTACH;FMTTYPE=image/png:https://www.medwayarchers.co.uk/wp-content/uploads/2014/03/archer.png
END:VEVENT
BEGIN:VEVENT
DTSTART;TZID=Europe/London:20190817T090000
DTEND;TZID=Europe/London:20190817T170000
DTSTAMP:20260422T095955
CREATED:20140311T102031Z
LAST-MODIFIED:20190307T122527Z
UID:409-1566032400-1566061200@www.medwayarchers.co.uk
SUMMARY:Westerns
DESCRIPTION:Western 8 doz. 4×4 @ your handicap distances. Assembly 09.00 for 09.30 sighters or 12:00 noon for 12:30 sighters.
URL:https://www.medwayarchers.co.uk/event/westernsalbion/
CATEGORIES:General
ATTACH;FMTTYPE=image/png:https://www.medwayarchers.co.uk/wp-content/uploads/2014/03/archer.png
END:VEVENT
BEGIN:VEVENT
DTSTART;VALUE=DATE:20190810
DTEND;VALUE=DATE:20190811
DTSTAMP:20260422T095955
CREATED:20140311T122015Z
LAST-MODIFIED:20190307T122329Z
UID:430-1565395200-1565481599@www.medwayarchers.co.uk
SUMMARY:Archery GB Affiliations due
DESCRIPTION:ARCHERY GB AFFILIATION FEES ARE DUE 1ST SEPTEMBER – Please pay Christina Jenner – in cash\, by cheque or BACS to Medway Archers. She will start collecting your fees during August.
URL:https://www.medwayarchers.co.uk/event/gnas-affiliations-due/
CATEGORIES:General
ATTACH;FMTTYPE=image/png:https://www.medwayarchers.co.uk/wp-content/uploads/2014/03/archer3.png
END:VEVENT
BEGIN:VEVENT
DTSTART;TZID=Europe/London:20190720T090000
DTEND;TZID=Europe/London:20190720T170000
DTSTAMP:20260422T095955
CREATED:20140311T115731Z
LAST-MODIFIED:20190307T123257Z
UID:427-1563613200-1563642000@www.medwayarchers.co.uk
SUMMARY:Take Your Pick
DESCRIPTION:Your choice @ your handicap distances. Assembly 09.00 for 09.30 sighters or 12:00 noon for 12:30 sighters.
URL:https://www.medwayarchers.co.uk/event/take-your-pick-4/
CATEGORIES:General
ATTACH;FMTTYPE=image/png:https://www.medwayarchers.co.uk/wp-content/uploads/2014/03/archer.png
END:VEVENT
BEGIN:VEVENT
DTSTART;TZID=Europe/London:20190622T090000
DTEND;TZID=Europe/London:20190622T150000
DTSTAMP:20260422T095955
CREATED:20140311T105600Z
LAST-MODIFIED:20190307T123958Z
UID:410-1561194000-1561215600@www.medwayarchers.co.uk
SUMMARY:Nationals
DESCRIPTION:6 doz. 4×2 @ your handicap distances. Assembly 09.00 for 09.30 sighters or 12:00 noon for 12:30 sighters.
URL:https://www.medwayarchers.co.uk/event/work-party/
CATEGORIES:General
ATTACH;FMTTYPE=image/png:https://www.medwayarchers.co.uk/wp-content/uploads/2014/03/archer.png
END:VEVENT
BEGIN:VEVENT
DTSTART;TZID=Europe/London:20190608T090000
DTEND;TZID=Europe/London:20190608T170000
DTSTAMP:20260422T095955
CREATED:20140311T114851Z
LAST-MODIFIED:20190307T124138Z
UID:423-1559984400-1560013200@www.medwayarchers.co.uk
SUMMARY:Take Your Pick
DESCRIPTION:Your choice @ your handicap distances. Assembly 09.00 for 09.30 sighters or 12:00 noon for 12:30 sighters.
URL:https://www.medwayarchers.co.uk/event/take-your-pick-3/
CATEGORIES:General
ATTACH;FMTTYPE=image/png:https://www.medwayarchers.co.uk/wp-content/uploads/2014/03/archer.png
END:VEVENT
BEGIN:VEVENT
DTSTART;TZID=Europe/London:20190525T090000
DTEND;TZID=Europe/London:20190525T170000
DTSTAMP:20260422T095955
CREATED:20170416T162629Z
LAST-MODIFIED:20190307T124424Z
UID:850-1558774800-1558803600@www.medwayarchers.co.uk
SUMMARY:Take Your Pick
DESCRIPTION:Your choice @ your handicap distances. Assembly 09.00 for 09.30 sighters or 12:00 noon for 12:30 sighters.
URL:https://www.medwayarchers.co.uk/event/take-your-pick-13/
CATEGORIES:General
ATTACH;FMTTYPE=image/png:https://www.medwayarchers.co.uk/wp-content/uploads/2014/03/archer.png
END:VEVENT
BEGIN:VEVENT
DTSTART;TZID=Europe/London:20190427T090000
DTEND;TZID=Europe/London:20190427T170000
DTSTAMP:20260422T095955
CREATED:20140311T112512Z
LAST-MODIFIED:20190307T125444Z
UID:416-1556355600-1556384400@www.medwayarchers.co.uk
SUMMARY:St. George/ Albion/ Windsor
DESCRIPTION:9 doz. 3x3x3 @ your handicap distances. Assembly 09.00 for 09.30 sighters or 12:00 noon for 12:30 sighters.
URL:https://www.medwayarchers.co.uk/event/st-georgealbion/
CATEGORIES:General
ATTACH;FMTTYPE=image/png:https://www.medwayarchers.co.uk/wp-content/uploads/2014/03/archer.png
END:VEVENT
BEGIN:VEVENT
DTSTART;TZID=Europe/London:20190422T110000
DTEND;TZID=Europe/London:20190422T170000
DTSTAMP:20260422T095955
CREATED:20140311T112653Z
LAST-MODIFIED:20190307T125644Z
UID:417-1555930800-1555952400@www.medwayarchers.co.uk
SUMMARY:Easter Fun Shoot
DESCRIPTION:Assembly 11:00 noon for sighters 11:30 Sharp. \nEntry £5 or £8 if you include May The 4th Be With You Fun Shoot.
URL:https://www.medwayarchers.co.uk/event/take-your-pick-2/
CATEGORIES:General
ATTACH;FMTTYPE=image/png:https://www.medwayarchers.co.uk/wp-content/uploads/2014/03/RabbitArcher.png
END:VEVENT
BEGIN:VEVENT
DTSTART;TZID=Europe/London:20190420T090000
DTEND;TZID=Europe/London:20190420T170000
DTSTAMP:20260422T095955
CREATED:20140311T112342Z
LAST-MODIFIED:20190307T125728Z
UID:415-1555750800-1555779600@www.medwayarchers.co.uk
SUMMARY:Westerns
DESCRIPTION:8 doz. 4×4 @ your handicap distances. Assembly 09.00 for 09.30 sighters or 12:00 noon for 12:30 sighters.
URL:https://www.medwayarchers.co.uk/event/western/
CATEGORIES:General
ATTACH;FMTTYPE=image/png:https://www.medwayarchers.co.uk/wp-content/uploads/2014/03/archer.png
END:VEVENT
BEGIN:VEVENT
DTSTART;TZID=Europe/London:20190406T110000
DTEND;TZID=Europe/London:20190406T150000
DTSTAMP:20260422T095955
CREATED:20140311T112208Z
LAST-MODIFIED:20190307T125932Z
UID:414-1554548400-1554562800@www.medwayarchers.co.uk
SUMMARY:Work Party
DESCRIPTION:Work Party\, NO Shooting Today. Please do turn up and help. Assembly 11:00 am.
URL:https://www.medwayarchers.co.uk/event/summer-postal-league/
CATEGORIES:General
ATTACH;FMTTYPE=image/png:https://www.medwayarchers.co.uk/wp-content/uploads/2014/03/archer2.png
END:VEVENT
BEGIN:VEVENT
DTSTART;TZID=Europe/London:20190330T090000
DTEND;TZID=Europe/London:20190330T170000
DTSTAMP:20260422T095955
CREATED:20140311T110906Z
LAST-MODIFIED:20190307T130027Z
UID:413-1553936400-1553965200@www.medwayarchers.co.uk
SUMMARY:Take Your Pick
DESCRIPTION:Your choice @ your handicap distances. Assembly 09.00 for 09.30 sighters or 12:00 noon for 12:30 sighters.
URL:https://www.medwayarchers.co.uk/event/take-your-pick/
CATEGORIES:General
ATTACH;FMTTYPE=image/png:https://www.medwayarchers.co.uk/wp-content/uploads/2014/03/archer.png
END:VEVENT
BEGIN:VEVENT
DTSTART;VALUE=DATE:20190101
DTEND;VALUE=DATE:20190102
DTSTAMP:20260422T095955
CREATED:20140311T175617Z
LAST-MODIFIED:20190307T130737Z
UID:460-1546300800-1546387199@www.medwayarchers.co.uk
SUMMARY:Club Subscriptions
DESCRIPTION:Club Subscriptions are now due.
URL:https://www.medwayarchers.co.uk/event/club-subscriptions/
CATEGORIES:General
ATTACH;FMTTYPE=image/png:https://www.medwayarchers.co.uk/wp-content/uploads/2014/03/archer3.png
END:VEVENT
BEGIN:VEVENT
DTSTART;TZID=Europe/London:20180324T123000
DTEND;TZID=Europe/London:20180324T170000
DTSTAMP:20260422T095955
CREATED:20140311T174945Z
LAST-MODIFIED:20170416T162403Z
UID:454-1521894600-1521910800@www.medwayarchers.co.uk
SUMMARY:Take Your Pick
DESCRIPTION:Your choice @ your handicap distances. Assembly 12:00 noon for sighters 12:30 Sharp.
URL:https://www.medwayarchers.co.uk/event/take-your-pick-8/
CATEGORIES:General
ATTACH;FMTTYPE=image/png:https://www.medwayarchers.co.uk/wp-content/uploads/2014/03/archer.png
END:VEVENT
BEGIN:VEVENT
DTSTART;TZID=Europe/London:20180303T080000
DTEND;TZID=Europe/London:20180303T170000
DTSTAMP:20260422T095955
CREATED:20170416T162811Z
LAST-MODIFIED:20170416T162811Z
UID:852-1520064000-1520096400@www.medwayarchers.co.uk
SUMMARY:Take Your Pick
DESCRIPTION:Your choice @ your handicap distances. Assembly 12:00 noon for sighters 12:30 Sharp.
URL:https://www.medwayarchers.co.uk/event/take-your-pick-14/
CATEGORIES:General
ATTACH;FMTTYPE=image/png:https://www.medwayarchers.co.uk/wp-content/uploads/2014/03/archer.png
END:VEVENT
BEGIN:VEVENT
DTSTART;TZID=Europe/London:20180224T080000
DTEND;TZID=Europe/London:20180224T170000
DTSTAMP:20260422T095955
CREATED:20170416T162954Z
LAST-MODIFIED:20170416T162954Z
UID:854-1519459200-1519491600@www.medwayarchers.co.uk
SUMMARY:Take Your Pick
DESCRIPTION:Your choice @ your handicap distances. Assembly 12:00 noon for sighters 12:30 Sharp.
URL:https://www.medwayarchers.co.uk/event/take-your-pick-15/
CATEGORIES:General
ATTACH;FMTTYPE=image/png:https://www.medwayarchers.co.uk/wp-content/uploads/2014/03/archer.png
END:VEVENT
BEGIN:VEVENT
DTSTART;TZID=Europe/London:20180217T080000
DTEND;TZID=Europe/London:20180217T170000
DTSTAMP:20260422T095955
CREATED:20170416T163104Z
LAST-MODIFIED:20170416T163104Z
UID:856-1518854400-1518886800@www.medwayarchers.co.uk
SUMMARY:Take Your Pick
DESCRIPTION:Your choice @ your handicap distances. Assembly 12:00 noon for sighters 12:30 Sharp.
URL:https://www.medwayarchers.co.uk/event/take-your-pick-16/
CATEGORIES:General
ATTACH;FMTTYPE=image/png:https://www.medwayarchers.co.uk/wp-content/uploads/2014/03/archer.png
END:VEVENT
BEGIN:VEVENT
DTSTART;TZID=Europe/London:20180203T080000
DTEND;TZID=Europe/London:20180203T170000
DTSTAMP:20260422T095955
CREATED:20170416T163226Z
LAST-MODIFIED:20170416T163226Z
UID:858-1517644800-1517677200@www.medwayarchers.co.uk
SUMMARY:Take Your Pick
DESCRIPTION:Your choice @ your handicap distances. Assembly 12:00 noon for sighters 12:30 Sharp.
URL:https://www.medwayarchers.co.uk/event/take-your-pick-17/
CATEGORIES:General
ATTACH;FMTTYPE=image/png:https://www.medwayarchers.co.uk/wp-content/uploads/2014/03/archer.png
END:VEVENT
BEGIN:VEVENT
DTSTART;TZID=Europe/London:20180127T080000
DTEND;TZID=Europe/London:20180127T170000
DTSTAMP:20260422T095955
CREATED:20170416T163638Z
LAST-MODIFIED:20170416T163638Z
UID:864-1517040000-1517072400@www.medwayarchers.co.uk
SUMMARY:Take Your Pick
DESCRIPTION:Your choice @ your handicap distances. Assembly 12:00 noon for sighters 12:30 Sharp.
URL:https://www.medwayarchers.co.uk/event/take-your-pick-20/
CATEGORIES:General
ATTACH;FMTTYPE=image/png:https://www.medwayarchers.co.uk/wp-content/uploads/2014/03/archer.png
END:VEVENT
BEGIN:VEVENT
DTSTART;TZID=Europe/London:20180120T080000
DTEND;TZID=Europe/London:20180120T170000
DTSTAMP:20260422T095955
CREATED:20170416T163518Z
LAST-MODIFIED:20170416T163518Z
UID:862-1516435200-1516467600@www.medwayarchers.co.uk
SUMMARY:Take Your Pick
DESCRIPTION:Your choice @ your handicap distances. Assembly 12:00 noon for sighters 12:30 Sharp.
URL:https://www.medwayarchers.co.uk/event/take-your-pick-19/
CATEGORIES:General
ATTACH;FMTTYPE=image/png:https://www.medwayarchers.co.uk/wp-content/uploads/2014/03/archer.png
END:VEVENT
BEGIN:VEVENT
DTSTART;TZID=Europe/London:20180106T080000
DTEND;TZID=Europe/London:20180106T170000
DTSTAMP:20260422T095955
CREATED:20170416T163414Z
LAST-MODIFIED:20170416T163414Z
UID:860-1515225600-1515258000@www.medwayarchers.co.uk
SUMMARY:Take Your Pick
DESCRIPTION:Your choice @ your handicap distances. Assembly 12:00 noon for sighters 12:30 Sharp.
URL:https://www.medwayarchers.co.uk/event/take-your-pick-18/
CATEGORIES:General
ATTACH;FMTTYPE=image/png:https://www.medwayarchers.co.uk/wp-content/uploads/2014/03/archer.png
END:VEVENT
END:VCALENDAR